BEGIN:VCALENDAR
VERSION:2.0
PRODID:KKTIX
CALSCALE:GREGORIAN
METHOD:PUBLISH
BEGIN:VTIMEZONE
TZID:Asia/Taipei
END:VTIMEZONE
BEGIN:VEVENT
DTSTAMP:20260420T140339Z
UID:a556611b-b899-4ec0-ab56-d8fc2f1bd124
DTSTART:20260509T053000Z
DTEND:20260509T053000Z
CLASS:PUBLIC
DESCRIPTION:https://goodnaturedcreativity.kktix.cc/events/7b9a4c7a
LOCATION: (台北市中山區玉門街1號(MAJI MAJI集食行樂園區內))
  Triangle
SUMMARY:王君豪 Heaven Don't Have You 新歌分享╳慶生會
END:VEVENT
END:VCALENDAR
